BEGIN:VCALENDAR
VERSION:2.0
PRODID:-//Squarespace Inc/Squarespace 6//v6//EN
BEGIN:VEVENT
UID:523fd33de4b0b7dd2faf7e4a@squarespace.com
DTSTAMP:20130923T060636Z
DTSTART:20131001T090000Z
DTEND:20131001T100000Z
SUMMARY:Louise Potiki - Bryant: - Kids Dance Class
END:VEVENT
END:VCALENDAR
