BEGIN:VCALENDAR
VERSION:2.0
PRODID:-//Squarespace Inc/Squarespace 6//v6//EN
BEGIN:VEVENT
UID:525de00fe4b0f07bb3df8093@squarespace.com
DTSTAMP:20131016T004036Z
DTSTART:20131012T213000Z
DTEND:20131012T230000Z
SUMMARY:Yoga
END:VEVENT
END:VCALENDAR
