BEGIN:VCALENDAR
VERSION:2.0
PRODID:-//Squarespace Inc/Squarespace 6//v6//EN
BEGIN:VEVENT
UID:525de097e4b01b58d2e55f2f@squarespace.com
DTSTAMP:20131016T004122Z
DTSTART:20131019T213000Z
DTEND:20131019T230000Z
SUMMARY:Yoga
END:VEVENT
END:VCALENDAR
