BEGIN:VCALENDAR
VERSION:2.0
PRODID:-//Squarespace Inc/Squarespace 6//v6//EN
BEGIN:VEVENT
UID:525de0c2e4b0c7141e88176b@squarespace.com
DTSTAMP:20131016T004203Z
DTSTART:20131026T213000Z
DTEND:20131026T230000Z
SUMMARY:Yoga
END:VEVENT
END:VCALENDAR
