BEGIN:VCALENDAR
VERSION:2.0
PRODID:-//Squarespace Inc/Squarespace 6//v6//EN
BEGIN:VEVENT
UID:51a46726e4b0d80d8a750d4d@squarespace.com
DTSTAMP:20130528T081520Z
DTSTART:20131027T203000Z
DTEND:20131028T013000Z
SUMMARY:Piha Market Day
END:VEVENT
END:VCALENDAR
