BEGIN:VCALENDAR
VERSION:2.0
PRODID:-//Squarespace Inc/Squarespace 6//v6//EN
BEGIN:VEVENT
UID:525ddfc6e4b0fe5f66894d62@squarespace.com
DTSTAMP:20131113T215646Z
DTSTART:20131005T213000Z
DTEND:20131005T230000Z
SUMMARY:Yoga
END:VEVENT
END:VCALENDAR
