BEGIN:VCALENDAR
VERSION:2.0
PRODID:-//Squarespace Inc/Squarespace 6//v6//EN
BEGIN:VEVENT
UID:528be2aee4b0e9c0c1eb9b56@squarespace.com
DTSTAMP:20131119T221449Z
DTSTART:20131101T060000Z
DTEND:20131101T080000Z
SUMMARY:Piha R & R Meeting
END:VEVENT
END:VCALENDAR
