BEGIN:VCALENDAR
VERSION:2.0
PRODID:-//Squarespace Inc/Squarespace 6//v6//EN
BEGIN:VEVENT
UID:5283f766e4b0b0c905abafd9@squarespace.com
DTSTAMP:20131113T220435Z
DTSTART:20131109T213000Z
DTEND:20131109T230000Z
SUMMARY:Yoga
END:VEVENT
END:VCALENDAR
