BEGIN:VCALENDAR
VERSION:2.0
PRODID:-//Squarespace Inc/Squarespace 6//v6//EN
BEGIN:VEVENT
UID:5283f725e4b0b0c905abaf5c@squarespace.com
DTSTAMP:20131113T220327Z
DTSTART:20131112T053000Z
DTEND:20131112T070000Z
SUMMARY:Yoga
END:VEVENT
END:VCALENDAR
