BEGIN:VCALENDAR
VERSION:2.0
PRODID:-//Squarespace Inc/Squarespace 6//v6//EN
BEGIN:VEVENT
UID:5283f856e4b0a2969a36464d@squarespace.com
DTSTAMP:20131113T220947Z
DTSTART:20131117T003000Z
DTEND:20131117T033000Z
SUMMARY:Working Bee!
END:VEVENT
END:VCALENDAR
