BEGIN:VCALENDAR
VERSION:2.0
PRODID:-//Squarespace Inc/Squarespace 6//v6//EN
BEGIN:VEVENT
UID:5283f5c2e4b03412840c2043@squarespace.com
DTSTAMP:20131113T215805Z
DTSTART:20131116T213000Z
DTEND:20131116T230000Z
SUMMARY:Yoga
END:VEVENT
END:VCALENDAR
