BEGIN:VCALENDAR
VERSION:2.0
PRODID:-//Squarespace Inc/Squarespace 6//v6//EN
BEGIN:VEVENT
UID:5283f6eae4b00c2d6fa50dc5@squarespace.com
DTSTAMP:20131113T220234Z
DTSTART:20131119T053000Z
DTEND:20131119T070000Z
SUMMARY:Yoga
END:VEVENT
END:VCALENDAR
