BEGIN:VCALENDAR
VERSION:2.0
PRODID:-//Squarespace Inc/Squarespace 6//v6//EN
BEGIN:VEVENT
UID:528bdaa8e4b039a9b8554375@squarespace.com
DTSTAMP:20131119T214927Z
DTSTART:20140123T210000Z
DTEND:20140126T020000Z
SUMMARY:Yoga Workshop
END:VEVENT
END:VCALENDAR
