BEGIN:VCALENDAR
VERSION:2.0
PRODID:-//Squarespace Inc/Squarespace 6//v6//EN
BEGIN:VEVENT
UID:528be6a6e4b04fc308300518@squarespace.com
DTSTAMP:20140115T215042Z
DTSTART:20131214T213000Z
DTEND:20131214T230000Z
SUMMARY:Yoga
END:VEVENT
END:VCALENDAR
