BEGIN:VCALENDAR
VERSION:2.0
PRODID:-//Squarespace Inc/Squarespace 6//v6//EN
BEGIN:VEVENT
UID:528be463e4b030a48afdd2d6@squarespace.com
DTSTAMP:20131119T222507Z
DTSTART:20131121T000000Z
DTEND:20131121T030000Z
SUMMARY:Indoor Bowls
END:VEVENT
END:VCALENDAR
