BEGIN:VCALENDAR
VERSION:2.0
PRODID:-//Squarespace Inc/Squarespace 6//v6//EN
BEGIN:VEVENT
UID:5283f5ffe4b04c6cd9a597c1@squarespace.com
DTSTAMP:20131113T215843Z
DTSTART:20131123T213000Z
DTEND:20131123T230000Z
SUMMARY:Yoga
END:VEVENT
END:VCALENDAR
