BEGIN:VCALENDAR
VERSION:2.0
PRODID:-//Squarespace Inc/Squarespace 6//v6//EN
BEGIN:VEVENT
UID:5283f73ee4b04c6cd9a5999b@squarespace.com
DTSTAMP:20131113T220348Z
DTSTART:20131126T053000Z
DTEND:20131126T070000Z
SUMMARY:Yoga
END:VEVENT
END:VCALENDAR
