BEGIN:VCALENDAR
VERSION:2.0
PRODID:-//Squarespace Inc/Squarespace 6//v6//EN
BEGIN:VEVENT
UID:528be493e4b057894c728d01@squarespace.com
DTSTAMP:20131119T222529Z
DTSTART:20131128T000000Z
DTEND:20131128T030000Z
SUMMARY:Indoor Bowls
END:VEVENT
END:VCALENDAR
