BEGIN:VCALENDAR
VERSION:2.0
PRODID:-//Squarespace Inc/Squarespace 6//v6//EN
BEGIN:VEVENT
UID:5283f64fe4b0c438e22fdfe4@squarespace.com
DTSTAMP:20131113T220003Z
DTSTART:20131102T213000Z
DTEND:20131102T230000Z
SUMMARY:Yoga
END:VEVENT
END:VCALENDAR
