BEGIN:VCALENDAR
VERSION:2.0
PRODID:-//Squarespace Inc/Squarespace 6//v6//EN
BEGIN:VEVENT
UID:5283f67ae4b040ebbb099cd1@squarespace.com
DTSTAMP:20131113T220202Z
DTSTART:20131105T053000Z
DTEND:20131105T070000Z
SUMMARY:Yoga
END:VEVENT
END:VCALENDAR
