BEGIN:VCALENDAR
VERSION:2.0
PRODID:-//Squarespace Inc/Squarespace 6//v6//EN
BEGIN:VEVENT
UID:5283f627e4b09b329254c900@squarespace.com
DTSTAMP:20131119T213512Z
DTSTART:20131130T213000Z
DTEND:20131130T230000Z
SUMMARY:Yoga
END:VEVENT
END:VCALENDAR
