BEGIN:VCALENDAR
VERSION:2.0
PRODID:-//Squarespace Inc/Squarespace 6//v6//EN
BEGIN:VEVENT
UID:528be5bde4b065be586ad7d0@squarespace.com
DTSTAMP:20131119T222737Z
DTSTART:20131210T053000Z
DTEND:20131210T070000Z
SUMMARY:Yoga
END:VEVENT
END:VCALENDAR
