BEGIN:VCALENDAR
VERSION:2.0
PRODID:-//Squarespace Inc/Squarespace 6//v6//EN
BEGIN:VEVENT
UID:528be4e3e4b0d9caac57ddf8@squarespace.com
DTSTAMP:20131119T222348Z
DTSTART:20131212T000000Z
DTEND:20131212T030000Z
SUMMARY:Indoor Bowls
END:VEVENT
END:VCALENDAR
