BEGIN:VCALENDAR
VERSION:2.0
PRODID:-//Squarespace Inc/Squarespace 6//v6//EN
BEGIN:VEVENT
UID:528be622e4b02789e9a61901@squarespace.com
DTSTAMP:20131119T222920Z
DTSTART:20131217T053000Z
DTEND:20131217T070000Z
SUMMARY:Yoga
END:VEVENT
END:VCALENDAR
