BEGIN:VCALENDAR
VERSION:2.0
PRODID:-//Squarespace Inc/Squarespace 6//v6//EN
BEGIN:VEVENT
UID:52928284e4b059f91541e395@squarespace.com
DTSTAMP:20131124T225307Z
DTSTART:20140101T213000Z
DTEND:20140111T230000Z
SUMMARY:Yoga Holiday Programme
END:VEVENT
END:VCALENDAR
