BEGIN:VCALENDAR
VERSION:2.0
PRODID:-//Squarespace Inc/Squarespace 6//v6//EN
BEGIN:VEVENT
UID:528bd9a8e4b08c2fe8d7c89f@squarespace.com
DTSTAMP:20131124T225411Z
DTSTART:20131226T210000Z
DTEND:20131230T230000Z
SUMMARY:Yoga Holiday Programme
END:VEVENT
END:VCALENDAR
