BEGIN:VCALENDAR
VERSION:2.0
PRODID:-//Squarespace Inc/Squarespace 6//v6//EN
BEGIN:VEVENT
UID:528be57de4b02789e9a6182e@squarespace.com
DTSTAMP:20131119T222813Z
DTSTART:20131203T053000Z
DTEND:20131203T070000Z
SUMMARY:Yoga
END:VEVENT
END:VCALENDAR
