BEGIN:VCALENDAR
VERSION:2.0
PRODID:-//Squarespace Inc/Squarespace 6//v6//EN
BEGIN:VEVENT
UID:528be4b4e4b02789e9a616ef@squarespace.com
DTSTAMP:20131119T222310Z
DTSTART:20131205T000000Z
DTEND:20131205T030000Z
SUMMARY:Indoor Bowls
END:VEVENT
END:VCALENDAR
