BEGIN:VCALENDAR
VERSION:2.0
PRODID:-//Squarespace Inc/Squarespace 6//v6//EN
BEGIN:VEVENT
UID:528be2eae4b02bb487328e3f@squarespace.com
DTSTAMP:20131119T221528Z
DTSTART:20131206T060000Z
DTEND:20131206T080000Z
SUMMARY:Piha R & R Meeting
END:VEVENT
END:VCALENDAR
