BEGIN:VCALENDAR
VERSION:2.0
PRODID:-//Squarespace Inc/Squarespace 6//v6//EN
BEGIN:VEVENT
UID:528be128e4b057894c728814@squarespace.com
DTSTAMP:20131119T221043Z
DTSTART:20131207T050000Z
DTEND:20131207T100000Z
SUMMARY:Private Booking
END:VEVENT
END:VCALENDAR
