BEGIN:VCALENDAR
VERSION:2.0
PRODID:-//Squarespace Inc/Squarespace 6//v6//EN
BEGIN:VEVENT
UID:528be70de4b0ef8d92c30ddf@squarespace.com
DTSTAMP:20131119T223317Z
DTSTART:20131207T213000Z
DTEND:20131207T230000Z
SUMMARY:Yoga
END:VEVENT
END:VCALENDAR
