BEGIN:VCALENDAR
VERSION:2.0
PRODID:-//Squarespace Inc/Squarespace 6//v6//EN
BEGIN:VEVENT
UID:51a1cab3e4b034b67e511d71@squarespace.com
DTSTAMP:20130527T214826Z
DTSTART:20130528T063000Z
DTEND:20130528T080000Z
SUMMARY:Yoga
END:VEVENT
END:VCALENDAR
