BEGIN:VCALENDAR
VERSION:2.0
PRODID:-//Squarespace Inc/Squarespace 6//v6//EN
BEGIN:VEVENT
UID:51a32795e4b0643b1ca6f50c@squarespace.com
DTSTAMP:20130527T215222Z
DTSTART:20130530T010000Z
DTEND:20130530T040000Z
SUMMARY:Indoor Bowls
END:VEVENT
END:VCALENDAR
