BEGIN:VCALENDAR
VERSION:2.0
PRODID:-//Squarespace Inc/Squarespace 6//v6//EN
BEGIN:VEVENT
UID:51a3d4f3e4b00f442894399f@squarespace.com
DTSTAMP:20130527T220823Z
DTSTART:20130531T223000Z
DTEND:20130601T000000Z
SUMMARY:Yoga
END:VEVENT
END:VCALENDAR
