BEGIN:VCALENDAR
VERSION:2.0
PRODID:-//Squarespace Inc/Squarespace 6//v6//EN
BEGIN:VEVENT
UID:51a463bfe4b04d5e74d4795e@squarespace.com
DTSTAMP:20130528T075924Z
DTSTART:20130611T063000Z
DTEND:20130611T080000Z
SUMMARY:Yoga
END:VEVENT
END:VCALENDAR
