BEGIN:VCALENDAR
VERSION:2.0
PRODID:-//Squarespace Inc/Squarespace 6//v6//EN
BEGIN:VEVENT
UID:51a46489e4b093105c2768eb@squarespace.com
DTSTAMP:20130610T092921Z
DTSTART:20130615T223000Z
DTEND:20130616T000000Z
SUMMARY:Yoga
END:VEVENT
END:VCALENDAR
