BEGIN:VCALENDAR
VERSION:2.0
PRODID:-//Squarespace Inc/Squarespace 6//v6//EN
BEGIN:VEVENT
UID:51a463f8e4b068f76a146201@squarespace.com
DTSTAMP:20130608T043300Z
DTSTART:20130618T063000Z
DTEND:20130618T080000Z
SUMMARY:Yoga
END:VEVENT
END:VCALENDAR
