BEGIN:VCALENDAR
VERSION:2.0
PRODID:-//Squarespace Inc/Squarespace 6//v6//EN
BEGIN:VEVENT
UID:51a464b7e4b040633932893a@squarespace.com
DTSTAMP:20130610T092947Z
DTSTART:20130622T223000Z
DTEND:20130623T000000Z
SUMMARY:Yoga
END:VEVENT
END:VCALENDAR
