BEGIN:VCALENDAR
VERSION:2.0
PRODID:-//Squarespace Inc/Squarespace 6//v6//EN
BEGIN:VEVENT
UID:51a4642ae4b0643b1ca87208@squarespace.com
DTSTAMP:20130528T080100Z
DTSTART:20130625T063000Z
DTEND:20130625T080000Z
SUMMARY:Yoga
END:VEVENT
END:VCALENDAR
