BEGIN:VCALENDAR
VERSION:2.0
PRODID:-//Squarespace Inc/Squarespace 6//v6//EN
BEGIN:VEVENT
UID:51a464dde4b012a705de32bf@squarespace.com
DTSTAMP:20130610T093256Z
DTSTART:20130629T223000Z
DTEND:20130630T000000Z
SUMMARY:Yoga
END:VEVENT
END:VCALENDAR
