BEGIN:VCALENDAR
VERSION:2.0
PRODID:-//Squarespace Inc/Squarespace 6//v6//EN
BEGIN:VEVENT
UID:51a3d4bde4b020a19ed618a8@squarespace.com
DTSTAMP:20130528T075836Z
DTSTART:20130604T063000Z
DTEND:20130604T080000Z
SUMMARY:Yoga
END:VEVENT
END:VCALENDAR
