BEGIN:VCALENDAR
VERSION:2.0
PRODID:-//Squarespace Inc/Squarespace 6//v6//EN
BEGIN:VEVENT
UID:51a3d5a5e4b020a19ed6197d@squarespace.com
DTSTAMP:20130527T220845Z
DTSTART:20130606T010000Z
DTEND:20130606T040000Z
SUMMARY:Indoor Bowls
END:VEVENT
END:VCALENDAR
