BEGIN:VCALENDAR
VERSION:2.0
PRODID:-//Squarespace Inc/Squarespace 6//v6//EN
BEGIN:VEVENT
UID:51b1a413e4b0e926e37956c9@squarespace.com
DTSTAMP:20130607T091419Z
DTSTART:20130608T020000Z
DTEND:20130608T030000Z
SUMMARY:Preschool Matariki Concert
END:VEVENT
END:VCALENDAR
