BEGIN:VCALENDAR
VERSION:2.0
PRODID:-//Squarespace Inc/Squarespace 6//v6//EN
BEGIN:VEVENT
UID:51a3d54ee4b040633931ca8b@squarespace.com
DTSTAMP:20130527T215138Z
DTSTART:20130607T223000Z
DTEND:20130608T000000Z
SUMMARY:Yoga
END:VEVENT
END:VCALENDAR
