BEGIN:VCALENDAR
VERSION:2.0
PRODID:-//Squarespace Inc/Squarespace 6//v6//EN
BEGIN:VEVENT
UID:51b2b601e4b0de8ae9a57bf5@squarespace.com
DTSTAMP:20130610T093522Z
DTSTART:20130713T223000Z
DTEND:20130714T000000Z
SUMMARY:Yoga
END:VEVENT
END:VCALENDAR
