BEGIN:VCALENDAR
VERSION:2.0
PRODID:-//Squarespace Inc/Squarespace 6//v6//EN
BEGIN:VEVENT
UID:51b2b40be4b027c2e3e2fad8@squarespace.com
DTSTAMP:20130608T043333Z
DTSTART:20130716T063000Z
DTEND:20130716T080000Z
SUMMARY:Yoga
END:VEVENT
END:VCALENDAR
