BEGIN:VCALENDAR
VERSION:2.0
PRODID:-//Squarespace Inc/Squarespace 6//v6//EN
BEGIN:VEVENT
UID:51b196c4e4b01ff63c8e3da4@squarespace.com
DTSTAMP:20130607T083958Z
DTSTART:20130702T063000Z
DTEND:20130702T080000Z
SUMMARY:Yoga
END:VEVENT
END:VCALENDAR
