BEGIN:VCALENDAR
VERSION:2.0
PRODID:-//Squarespace Inc/Squarespace 6//v6//EN
BEGIN:VEVENT
UID:51b2b650e4b0797e32fddb6e@squarespace.com
DTSTAMP:20130611T222509Z
DTSTART:20130727T223000Z
DTEND:20130728T000000Z
SUMMARY:Yoga
END:VEVENT
END:VCALENDAR
