BEGIN:VCALENDAR
VERSION:2.0
PRODID:-//Squarespace Inc/Squarespace 6//v6//EN
BEGIN:VEVENT
UID:51b7a410e4b049e6ffb3aad9@squarespace.com
DTSTAMP:20130611T222701Z
DTSTART:20130720T223000Z
DTEND:20130721T000000Z
SUMMARY:Yoga
END:VEVENT
END:VCALENDAR
