BEGIN:VCALENDAR
VERSION:2.0
PRODID:-//Squarespace Inc/Squarespace 6//v6//EN
BEGIN:VEVENT
UID:51b2b42ce4b051b96ce9eed8@squarespace.com
DTSTAMP:20130608T043539Z
DTSTART:20130723T063000Z
DTEND:20130723T080000Z
SUMMARY:Yoga
END:VEVENT
END:VCALENDAR
